BEGIN:VCALENDAR
VERSION:2.0
PRODID:-//NAFASI ART SPACE - ECPv6.15.20//NONSGML v1.0//EN
CALSCALE:GREGORIAN
METHOD:PUBLISH
X-ORIGINAL-URL:https://www.nafasiartspace.org
X-WR-CALDESC:Events for NAFASI ART SPACE
REFRESH-INTERVAL;VALUE=DURATION:PT1H
X-Robots-Tag:noindex
X-PUBLISHED-TTL:PT1H
BEGIN:VTIMEZONE
TZID:Africa/Dar_es_Salaam
BEGIN:STANDARD
TZOFFSETFROM:+0300
TZOFFSETTO:+0300
TZNAME:EAT
DTSTART:20160101T000000
END:STANDARD
END:VTIMEZONE
BEGIN:VEVENT
DTSTART;TZID=Africa/Dar_es_Salaam:20181003T180000
DTEND;TZID=Africa/Dar_es_Salaam:20181003T200000
DTSTAMP:20260422T001317
CREATED:20180927T092459Z
LAST-MODIFIED:20180927T092459Z
UID:5633-1538589600-1538596800@www.nafasiartspace.org
SUMMARY:THE COLOUR OF MUSIC
DESCRIPTION:The Colour of Music | An exhibition by Dullah Wise
URL:https://www.nafasiartspace.org/event/the-colour-of-music/
LOCATION:Nafasi Art Space\, Eyasi Road\, Mikocheni B\, Dar Es Salaam\, Tanzania\, United Republic of
CATEGORIES:Exhibition
ORGANIZER;CN="NAFASI":MAILTO:info@nafasiartspace.org
END:VEVENT
BEGIN:VEVENT
DTSTART;TZID=Africa/Dar_es_Salaam:20180929T150000
DTEND;TZID=Africa/Dar_es_Salaam:20180929T233000
DTSTAMP:20260422T001317
CREATED:20180927T093102Z
LAST-MODIFIED:20180927T093102Z
UID:5635-1538233200-1538263800@www.nafasiartspace.org
SUMMARY:SANAA YETU 10
DESCRIPTION:Celebrating 10 Years of Nafasi
URL:https://www.nafasiartspace.org/event/sanaa-yetu-10/
LOCATION:Nafasi Art Space\, Eyasi Road\, Mikocheni B\, Dar Es Salaam\, Tanzania\, United Republic of
CATEGORIES:ChapChap,Exhibition,Music and Performance
ORGANIZER;CN="NAFASI":MAILTO:info@nafasiartspace.org
END:VEVENT
BEGIN:VEVENT
DTSTART;TZID=Africa/Dar_es_Salaam:20180910T160000
DTEND;TZID=Africa/Dar_es_Salaam:20180929T233000
DTSTAMP:20260422T001317
CREATED:20180816T113621Z
LAST-MODIFIED:20180914T110541Z
UID:5398-1536595200-1538263800@www.nafasiartspace.org
SUMMARY:Sanaa Yetu: Miaka 10 Ya Nafasi
DESCRIPTION:Nafasi Art Space celebrates it’s 10th Anniversary this September with a month of public art events\, exhibitions\, performances\, workshops and outreach programs. Come and celebrate sanaa yetu! \nNafasi Art Space inaadhimisha miaka 10 Septemba hii! Tegemea matukio ya umma\, maonyesho ya sanaa\, tamasha\, warsha\, semina na mengineyo. Njoo tufurahie sanaa yetu! \nSCHEDULE/RATIBA\nDate            Time                     Event\n10th Sept    4-5pm                 Press conference\n12th Sept    4-7pm                 LAUNCH w/Live painting & performance\n14th Sept     5-7pm                Cocktail event w/ art auction\n15th Sept     10am-12pm       Hospital visit\n17th  Sept     11am-1pm        Jukwa La Sanaa session w/ BASATA\n21st  Sept     10am-12pm      Public School Workshops\n22nd Sept      8-11am            Beach day festival and cleanup\n28th  Sept     11am-5pm        Graffiti Live at Morocco bus stand\n29th  Sept     5pm-Late          Fundraising Gala and Public Concert
URL:https://www.nafasiartspace.org/event/sanaa-yetu-miaka-10-ya-nafasi-2/
LOCATION:Nafasi Art Space\, Eyasi Road\, Mikocheni B\, Dar Es Salaam\, Tanzania\, United Republic of
CATEGORIES:ChapChap,Exhibition,Music and Performance
END:VEVENT
BEGIN:VEVENT
DTSTART;TZID=Africa/Dar_es_Salaam:20180907T173000
DTEND;TZID=Africa/Dar_es_Salaam:20180907T200000
DTSTAMP:20260422T001317
CREATED:20180814T120018Z
LAST-MODIFIED:20180827T085236Z
UID:5378-1536341400-1536350400@www.nafasiartspace.org
SUMMARY:Artist Hangout & Exhibition: Brinda Miller + Seema Kohli
DESCRIPTION:Seema Kohli and Brinda Miller are artists from India with over 20 years of experience in the global art world and a wide range of skills in painting\, sculpting\, printmaking and performance. Join us for a chance to hear about their work and stay for a special exhibition together with students from their workshop.\n—\nSeema Kohli na Brinda Miller ni wasanii kutoka India wenye uzoefu wa zaidi miaka 20 katika sanaa na ujuzi mkubwa wa kuchora\,kuunda\, kuchapisha na kuigiza. Jumiuka nasi kusikia kuhusu kazi zao na baki kwajili ya maonyesho maalum pamoja na wanafunzi wa warsha yao. \n 
URL:https://www.nafasiartspace.org/event/artist-hangout-exhibition-brinda-miller-seema-kohli/
LOCATION:Nafasi Art Space\, Eyasi Road\, Mikocheni B\, Dar Es Salaam\, Tanzania\, United Republic of
CATEGORIES:Exhibition,Hangout
END:VEVENT
BEGIN:VEVENT
DTSTART;TZID=Africa/Dar_es_Salaam:20180830T180000
DTEND;TZID=Africa/Dar_es_Salaam:20180830T210000
DTSTAMP:20260422T001317
CREATED:20180827T153241Z
LAST-MODIFIED:20180827T153241Z
UID:5447-1535652000-1535662800@www.nafasiartspace.org
SUMMARY:Polyglot: An Exhibition by Fred Halla
DESCRIPTION:On the 30th of August Artist Fred Halla (TZ) will be showcasing his Polyglot exhibition. His work aims to include members of society (such as the deaf and blind) that have been excluded by traditional art shows as well show how language can be an art in itself. Come and take part in this unique interactive event on Thursday 30th August 6PM at Nafasi Art Space. Entry is free.\n—\nTarehe 30 Agosti Msanii Fred Halla (TZ) atakuwa na onyesho lake mpya “Polyglot’. Onyesho lenye lengo la kuwajumuisha wale kama viziwi na vipofu ambao mala nyingi wanashindwa kushiriki katika sanaa. Pia onyesho linatarajia kila mmoja jinsi lugha ni aina ya sanaa. Karibu Alhamisi tarehe 30 Agosti. kuanzia saa 12 jioni. Hakuna kiingilio
URL:https://www.nafasiartspace.org/event/polyglot-an-exhibition-by-fred-halla/
CATEGORIES:Exhibition
END:VEVENT
BEGIN:VEVENT
DTSTART;TZID=Africa/Dar_es_Salaam:20180825T190000
DTEND;TZID=Africa/Dar_es_Salaam:20180825T220000
DTSTAMP:20260422T001317
CREATED:20180824T110919Z
LAST-MODIFIED:20180824T111227Z
UID:5438-1535223600-1535234400@www.nafasiartspace.org
SUMMARY:DAR VideoArt Project Exhibition
DESCRIPTION:Award winning video artist Lois Patino (ESP) will be exhibiting his work Mountain in Shadow at Nafasi Art Space. The exhibition will also feature video art by young Tanzanian artists he has been working with this past week. Join us from 7pm on Saturday 25th August for what promises to be a unique exploration of image\, light and the power of a camera.\n— \nMsanii wa video Lois Patino (ESP) ataonyesha kazi yake Mountain in Shadow hapa Nafasi Art Space. Pia kutakuwa na kazi za wasanii mbali mbali nchini walioshirki warsha yake. Hivyo ungana  nasi kutoka 7pm tarehe 25 Agosti na shuhudia sanaa za kushangaza.
URL:https://www.nafasiartspace.org/event/dar-videoart-project-exhibition/
CATEGORIES:Exhibition
END:VEVENT
BEGIN:VEVENT
DTSTART;TZID=Africa/Dar_es_Salaam:20180614T183000
DTEND;TZID=Africa/Dar_es_Salaam:20180614T220000
DTSTAMP:20260422T001317
CREATED:20180607T110044Z
LAST-MODIFIED:20180607T110044Z
UID:5070-1529001000-1529013600@www.nafasiartspace.org
SUMMARY:Metamorphosis Exhibition
DESCRIPTION:Join us for the opening of the Metamorphosis exhibition\, a truly unique collection of work prepared by our AIR Serge Diakota. Diakotas work has the potential to elevate you into a world of wonder and fantasy while reflecting the everyday reality of change and transformation. \nThe exhibition will be held at Nafasi Art Space on June 14th from 6:30pm to 10pm. \nFREE ENTRY!
URL:https://www.nafasiartspace.org/event/metamorphosis-exhibition/
CATEGORIES:Exhibition
ORGANIZER;CN="NAFASI":MAILTO:info@nafasiartspace.org
END:VEVENT
BEGIN:VEVENT
DTSTART;TZID=Africa/Dar_es_Salaam:20180602T183000
DTEND;TZID=Africa/Dar_es_Salaam:20180602T220000
DTSTAMP:20260422T001317
CREATED:20180518T114533Z
LAST-MODIFIED:20180518T114857Z
UID:4785-1527964200-1527976800@www.nafasiartspace.org
SUMMARY:SILENCE. an art exhibition.
DESCRIPTION:SILENCE. an art exhibition.\nWhere does your mind take you in moments of solitude? What do you consider before speaking out or keeping quiet? How does silence relate to us in the context of our communities\, our beliefs and our emotions? We welcome you to explore the theme of Silence through the spectrum of various local visual artists using a variety of mediums\, thought and expression. The silence exhibition will open on 2nd June at 6:30 PM until at June 30th at Nafasi. \n\nJe! Akili yako inakupeleka wapi wakati Unapokuwa mpweke? Unafikiria nini kabla ya kuzungumza? Ni jinsi gani ukimya wako unahusiana na mazingira\, jumuiya \, imani na hisia zako? Tunawakaribisha kwenye maonyesho yatakayo husu maudhui ya ukimya “Silence” yatakayofanyika hapa Nafasi Art Sace ambayo kupitia wigo wa sanaa wasanii mbalimbali wameweza kuonyesha maudhi hayo. Maonyesho yatafunguliwa tarehe 2 Juni kuanzia saa 12 na nusu jioni mpaka tarehe 30 Juni . HAMNA KIINGILIO
URL:https://www.nafasiartspace.org/event/silence-an-art-exhibition/
LOCATION:Nafasi Art Space\, Eyasi Road\, Mikocheni B\, Dar Es Salaam\, Tanzania\, United Republic of
CATEGORIES:Exhibition
ORGANIZER;CN="NAFASI":MAILTO:info@nafasiartspace.org
END:VEVENT
BEGIN:VEVENT
DTSTART;TZID=Africa/Dar_es_Salaam:20180511T183000
DTEND;TZID=Africa/Dar_es_Salaam:20180511T213000
DTSTAMP:20260422T001317
CREATED:20180427T091848Z
LAST-MODIFIED:20180502T091323Z
UID:4695-1526063400-1526074200@www.nafasiartspace.org
SUMMARY:Mama and Home: Exhibition by Walter Simbo Urassa
DESCRIPTION:“A mother is a mother even if she’s mad\, and home is home even if it’s just the underbrush.” You are warmly welcome to explore the exhibition of our April Artist-in-Resident\, Walter Simbo\, titled “Mama & Home”\, opening 11th May at 6:30 pm. The exhibition will be up until 31st May in the Nafasi Art Space Gallery.\nFREE ENTRY \n“Mama ni mama atakama ni kichaa. Nyumbani ni nyumbani hata kama ni kichakani “. Tunawakaribisha kwenye maonyesho yetu yaliyoandaliwa na Msanii wetu Walter Simbo. Maonyesho hayo yatakuwa na maudhui ya “Mama na Nyumbani.” Maonesho haya yatafanyika kuanzia tarehe 11 Mei kutoka saa 12 na nusu jioni na yatakuwepo hadi tarehe 31 Mei hapa Nafasi Art Space.\nHAMNA KIINGILIO
URL:https://www.nafasiartspace.org/event/mother-and-home-exhibition-by-walter-simbo-urassa/
LOCATION:Nafasi Art Space\, Eyasi Road\, Mikocheni B\, Dar Es Salaam\, Tanzania\, United Republic of
CATEGORIES:Exhibition
ORGANIZER;CN="NAFASI":MAILTO:info@nafasiartspace.org
END:VEVENT
BEGIN:VEVENT
DTSTART;TZID=Africa/Dar_es_Salaam:20180420T160000
DTEND;TZID=Africa/Dar_es_Salaam:20180420T180000
DTSTAMP:20260422T001317
CREATED:20180417T124156Z
LAST-MODIFIED:20180417T124156Z
UID:4605-1524240000-1524247200@www.nafasiartspace.org
SUMMARY:NAFASI YA DIMA DIGITAL ART EXHIBITION
DESCRIPTION:Prepare for a journey bridging the gap between traditional and digital art. From 4-6pm on April 20th\, DIMA (doesitmeanart)\, will be at Nafasi Art Space to host different corporate organizations\, entrepreneurs\, and other thought leaders in order to explore the opportunities of digital art in different industries and businesses. \nGet ready to explore next level digital content creation on animations\, illustrations\, 2D & 3D designs and to expand your view of what art can be in the digital world. \nDon’t miss this unique networking opportunity \nEntry is free\nFood and Beverages will be available. \n————————————————————– \nKaa tayari kwa onyesho la kipekee la sanaa za kidijitali. Tarehe 20 Aprili saa 10 mpaka 12 jioni \, DIMA (does it mean art -hii ni sanaa?)\, watukuwa hapa Nafasi Art Space pamoja na wakilishi wa mashirika\, wajasiliamali na viongozi wa tasnia mbali mbali nchini kuonyesha namna sanaa za namna hii zinaweza kuchangia katika biashara. \nNjoo ujue zaidi kuhusu sanaa za mtandoani kama mitindo ya 2D na 3D\, michoro\, animation na ungana nasi tukichambua maana na sehemu ya sanaa katika ulimwengu wa digitali. \nUsikose.\nHakuna kiingilio na vinwaji na vitafunio vitapatikana.
URL:https://www.nafasiartspace.org/event/nafasi-ya-dima-digital-art-exhibition/
LOCATION:Nafasi Art Space\, Eyasi Road\, Mikocheni B\, Dar Es Salaam\, Tanzania\, United Republic of
CATEGORIES:Exhibition
END:VEVENT
BEGIN:VEVENT
DTSTART;TZID=Africa/Dar_es_Salaam:20180414T120000
DTEND;TZID=Africa/Dar_es_Salaam:20180414T220000
DTSTAMP:20260422T001317
CREATED:20180413T132937Z
LAST-MODIFIED:20180413T133422Z
UID:4601-1523707200-1523743200@www.nafasiartspace.org
SUMMARY:The Swahili Cost Exhibition
DESCRIPTION:The Swahili Cost exhibition is now re opened. So in case you missed it at The Bay restaurant\, this gives you a wonderful opportunity to enjoy the fine arts done by our Artists in Residency Miguel(Spain) and Mike (Kenya) . This joint exhibition explains the Life and Struggle of people on the Swahili Coast in a fascinating artistic way. You will surely not want to miss it at Nafasi Art Space . FREE ENTRY\n.\nMaonyesho ya Swahili Cost sasa yanafunguliwa. Kwa hiyo ikiwa umeikosa kwenye mgahawa wa The Bay hii inakupa fursa nzuri ya kufurahia sanaa nzuri iliyofanywa na Wasanii wetu Miguel (Spain) na Mike (Kenya). Maonyesho haya ya pamoja yanaelezea Maisha na Mapambano ya watu kwenye Coast ya Kiswahili kwa njia ya sanaa ya kuvutia. Hakika hutataka kukosa.\nHAKUNA KIINGILIO
URL:https://www.nafasiartspace.org/event/the-swahili-cost-exhibition/
CATEGORIES:Exhibition
ORGANIZER;CN="NAFASI":MAILTO:info@nafasiartspace.org
END:VEVENT
BEGIN:VEVENT
DTSTART;TZID=Africa/Dar_es_Salaam:20180324T180000
DTEND;TZID=Africa/Dar_es_Salaam:20180324T210000
DTSTAMP:20260422T001317
CREATED:20180314T150812Z
LAST-MODIFIED:20180316T083522Z
UID:4442-1521914400-1521925200@www.nafasiartspace.org
SUMMARY:Marius Comanns Artist-in-Residence Exhibition
DESCRIPTION:Marius Comanns Artist-in-Residence Exhibition\nJoin us for a riveting art exhibition by our Artist in Residence Marius Comanns\, a painter from Dusseldorf (Germany)\, who tells contemporary stories\, ancient stories\, myths and stories that have been told for a long time through history in an interesting way. \nThe exhibition opening will be on Saturday\, March 24th\, from 6p-9pm\, in our Exhibition Hall at Nafasi Art Space. The work will remain up until March 30th 2018! \nFREE ENTRY \n\nUngana nasi katika maonesho ya sanaa kutoka kwa msanii wetu mgeni Marius Comanns kutoka Ujerumani\, anaye tumia sanaa kuhadithia hadithi za kisasa na za zamani kwa njia ya kuvutia. \nTukio hili litafanyika Jumamosi\, Machi tarehe 24\, saa 12 jioni hadi saa 3 usiku. Kwenye holi letu la maonesho hapa Nafasi Art Space. Maonesho yatakuepo hadi tarehe 30 Machi 2018. \nHAKUNA KIINGILIO
URL:https://www.nafasiartspace.org/event/marius-comanns-artist-in-residence-exhibition/
LOCATION:Nafasi Art Space\, Eyasi Road\, Mikocheni B\, Dar Es Salaam\, Tanzania\, United Republic of
CATEGORIES:Exhibition
ORGANIZER;CN="NAFASI":MAILTO:info@nafasiartspace.org
END:VEVENT
BEGIN:VEVENT
DTSTART;TZID=Africa/Dar_es_Salaam:20180308T180000
DTEND;TZID=Africa/Dar_es_Salaam:20180318T180000
DTSTAMP:20260422T001317
CREATED:20180317T134253Z
LAST-MODIFIED:20180317T134253Z
UID:4515-1520532000-1521396000@www.nafasiartspace.org
SUMMARY:SWAHILI COST: A JOINT ART EXHIBITION
DESCRIPTION:SWAHILI COST: A JOINT ART EXHIBITION\nYou will not want to miss this amazing joint exhibition about Life and Hustle on the Swahili coast by our current Artists in Residence Miguel Costales (Spain) and Mike Kyalo (Kenya) next Thursday March 8th\, @6pm\, at The Bay Restaurant\, Oysterbay! \nThe exhibition will remain up until Sunday March 18th\, 2018 \nFREE ENTRY \n\nHautataka kukosa maonesho haya ya sanaa kutoka kwa wasanii wetu wageni Miguel Costales (Hispania) na Mike Kyalo (Kenya) kuhusu mapambano ya maisha ya Pwani\, Alhamisi ijayo Machi 8\, saa 12 jioni\, pale Bay Restaurant\, Oysterbay! \nJumapili Machi 18\, 2018 ni siku ya mwisho ya maonesho. \nHAKUNA KIINGILIO
URL:https://www.nafasiartspace.org/event/swahili-cost-a-joint-art-exhibition/
LOCATION:The Bay Restaurant\, Msasani Road\, Plot No 40 Oysterbay\, Dar es Salaam\, Tanzania\, United Republic of
CATEGORIES:Exhibition
ATTACH;FMTTYPE=image/jpeg:https://www.nafasiartspace.org/nas/wp-content/uploads/2018/03/SWAHILI-COST.jpg
ORGANIZER;CN="NAFASI":MAILTO:info@nafasiartspace.org
END:VEVENT
BEGIN:VEVENT
DTSTART;TZID=Africa/Dar_es_Salaam:20180224T160000
DTEND;TZID=Africa/Dar_es_Salaam:20180224T230000
DTSTAMP:20260422T001317
CREATED:20180203T180453Z
LAST-MODIFIED:20180203T181058Z
UID:3207-1519488000-1519513200@www.nafasiartspace.org
SUMMARY:FASHION EVENT | I AM MAKEKE
DESCRIPTION:Jocktan Makeke – Award winning Fashion Designer\nAt 4pm\, on the last Saturday of the month of February (24th)\, we are rolling out the red carpet here at Nafasi Art Space and putting on our best African-inspired traditional clothing for “I AM MAKEKE” – a fashion event celebrating the career of Jocktan Makeke of Makeke International\, who is an award-winning fashion designer and costuming artist based in Dar es Salaam\, Tanzania\, who uses a variety of avant garde mediums to create intricate and sometimes otherworldly Afro-futuristic designs. \nThere will be an exhibition\, a documentary\, a fashion show\, a traditional dance\, a variety of food and drinks\, (and since it’s his birthday\, there may even be cake!). So show up or miss out on this grand event! \n4-6pm Makeke will run a ChapChap Fashion Design Public Art Workshop\nThis will be open to both amateurs who want to learn and professional designers who want to extend their knowledge. \nSign up at info@nafasiartspace.org \nALL ARE WELCOME \n……. \nSaa 10 jioni\, Jumamosi ya mwisho ya Februari (tarehe 24)\, kutakuwa na zuria jekundu hapa Nafasi Art Space na tutavaa nguo zetu nzuri za kiutamaduni wa Afrika kwa ajili ya tukio la mitindo “I AM MAKEKE” ambalo litasherekea kazi anayoifanya msanii wa mitindo ambaye ameshinda tuzo mbali mbali ndani na nje ya nchi Jocktan Makeke Makeke International. Ofisi za Makeke ziko hapa Dar es Salaam\, Tanzania na msanii huyu anatumia vitu mbali mbali visivyo vya kawaida kutengeneza mitindo yake ya kipekee na ya ki”Afro-futuristic”. \nKutakua na maonesho ya sanaa\, video ya habari kwa kina\, shoo ya mitindo\, dansi ya kiutamaduni\, chakula na vinywaji\, (na kwasababu ni siku yake ya kuzaliwa pia\, basi kutakua na keki!). Kwahiyo jitokeze na usikose tukio hili bab-kubwa. \nTafadhali kumbuka kua kuanzia saa 10-12 jioni Makeke ataendesha zoezi la mafunzo ya mitindo la “ChapChap Fashion Design” -Warsha ya sanaa ya wazi/uma kwa wabunifu wanaotaka kujifunza na wataalamu wanaotaka kujiendeleza. Jiandikishe kwa kutuma barua pepe info@nafasiartspace.org
URL:https://www.nafasiartspace.org/event/fashion-event-i-am-makeke/
LOCATION:Nafasi Art Space\, Eyasi Road\, Mikocheni B\, Dar Es Salaam\, Tanzania\, United Republic of
CATEGORIES:ChapChap,Exhibition,Music and Performance
ORGANIZER;CN="NAFASI":MAILTO:info@nafasiartspace.org
END:VEVENT
BEGIN:VEVENT
DTSTART;VALUE=DATE:20180213
DTEND;VALUE=DATE:20180324
DTSTAMP:20260422T001317
CREATED:20180210T164941Z
LAST-MODIFIED:20180316T074859Z
UID:3460-1518480000-1521849599@www.nafasiartspace.org
SUMMARY:OPEN STUDIO | Visual Art Exhibition
DESCRIPTION:OPEN STUDIO\nVisual Art Exhibition\nPresenting artwork by three up and coming female Artists from Tanzania\, Magreth Liwembe and Brenda Kibakaya from Nafasi Art Space and Nancy Cleopa from Vipaji who use their craft to boldly express their personal feelings and thoughts. “Open Studio is a way of introducing ourselves\, our art\, and hopefully be able to also sell and be recognized as artists” says Magreth Liwembe. For them Open Studio is a chance to start a conversation with the public. \nThey are warmly welcoming all of us to their exhibition on Tuesday\, 13th Feb 2018 at 6pm\, at the Goethe-Institut\, Dar es Salaam! For more information contact: info@daressalaam.goethe.org \nThe exhibition will be up until 23rd February 2018. \nENTRY IS FREE! \nMaonesho ya Sanaa\nTarehe 13 Februari 2018 saa 12 jioni\, Goethe-Institut Dar es Salaam\, itawaletea Maonesho ya Sanaa kutoka kwa wasanii wa kike Magreth Liwembe na Brenda Kibakaya kutoka Nafasi Art Space na Nancy Cleopa kutoka Vipaji\, ambao wanatumia fani yao kuelezea fikra na hisia zao. “Open Studio ni njia moja ya kujitambulisha sisi\, sanaa yetu\, na kwa matumaini pia kupata uwezo wa kuuza na kujulikana” akisema Magreth Liwembe. Kwao Open Studio itawasaidia kuanza mazungumzo na hadhira. Kwa mawasiliano zaidi: info@daressalaam.goethe.org\nMaonesho yataendelea hadi Februari 23\, 2018.
URL:https://www.nafasiartspace.org/event/open-studio/
LOCATION:Goethe Institut\, 63 Alykhan Road\, Dar Es Salaam\, Dar Es Salaam\, Tanzania\, United Republic of
CATEGORIES:Exhibition,Partner Event
ORGANIZER;CN="Goethe Institut":MAILTO:info@daressalaam.goethe.org
END:VEVENT
BEGIN:VEVENT
DTSTART;TZID=Africa/Dar_es_Salaam:20171209T190000
DTEND;TZID=Africa/Dar_es_Salaam:20171210T010000
DTSTAMP:20260422T001317
CREATED:20171125T211504Z
LAST-MODIFIED:20180203T231702Z
UID:2775-1512846000-1512867600@www.nafasiartspace.org
SUMMARY:NAFASI ART FESTIVAL
DESCRIPTION:Second Annual Nafasi Art Festival where it involve all Nafasi activities like Wikiendi Live\, Chap Chap and Art Fair
URL:https://www.nafasiartspace.org/event/nafasi-art-festival/
LOCATION:Nafasi Art Space\, Eyasi Road\, Mikocheni B\, Dar Es Salaam\, Tanzania\, United Republic of
CATEGORIES:ChapChap,Dance and Theatre,Exhibition,Music and Performance,Wikiendi Live
ORGANIZER;CN="NAFASI":MAILTO:info@nafasiartspace.org
END:VEVENT
END:VCALENDAR